BEGIN:VCALENDAR
VERSION:2.0
METHOD:PUBLISH
PRODID:-//Zap Calendar//Zap Calendar//EN
X-WR-TIMEZONE:Europe/Brussels
BEGIN:VEVENT
UID:10
DTSTAMP:20260530T200000 
SUMMARY:K-Creation A Tale of 24 Hours - grote show 
DESCRIPTION:Onze dansvoorstelling neemt je mee in A Tale Of 24 Hours — een tijdperk waarin stoommachines draaien, ambachten bloeien en elke dag zijn eigen tempo en karakter kent.

 
DTSTART:20260530T200000 
DTEND:20260530T220000 
LOCATION:CC de Meent - Schouwburg 
URL:https://www.demeent.be/nl/event/10967/a-tale-of-24-hours-grote-show 
END:VEVENT
END:VCALENDAR