BEGIN:VCALENDAR
VERSION:2.0
METHOD:PUBLISH
PRODID:-//Zap Calendar//Zap Calendar//EN
X-WR-TIMEZONE:Europe/Brussels
BEGIN:VEVENT
UID:10
DTSTAMP:20260426T200000 
SUMMARY:KÖLN 75 REGIE: IDO FLUK 
DESCRIPTION:Keulen, 1975. Tiener Vera Brandes begint al op jonge leeftijd met het produceren en promoten van muziekconcerten. 
DTSTART:20260426T200000 
DTEND:20260426T220000 
LOCATION:CC de Meent - Schouwburg 
URL:https://www.demeent.be/koln75 
END:VEVENT
END:VCALENDAR