BEGIN:VCALENDAR
VERSION:2.0
METHOD:PUBLISH
PRODID:-//Zap Calendar//Zap Calendar//EN
X-WR-TIMEZONE:Europe/Brussels
BEGIN:VEVENT
UID:10
DTSTAMP:20260419T200000 
SUMMARY:THE WIZARD OF THE KREMLIN REGIE: OLIVIER  ASSAYAS 
DESCRIPTION:Rusland, begin jaren negentig. In de chaos na de val van de Sovjet-Unie wordt de jonge tv producent Vadim Baranov (Paul Dano) opgenomen in de binnenste cirkel van de macht. 
DTSTART:20260419T200000 
DTEND:20260419T220000 
LOCATION:CC de Meent - Schouwburg 
URL:https://www.demeent.be/thewizardofthekremlin 
END:VEVENT
END:VCALENDAR