BEGIN:VCALENDAR
VERSION:2.0
METHOD:PUBLISH
PRODID:-//Zap Calendar//Zap Calendar//EN
X-WR-TIMEZONE:Europe/Brussels
BEGIN:VEVENT
UID:10
DTSTAMP:20250301T201500 
SUMMARY:STIJN DEVILLÉ & HET NIEUWSTEDELIJK YELLOWCAKE, LITTLE BOY 
DESCRIPTION:Op 6 augustus 1945 valt de atoombom met de spotnaam Little Boy op Hiroshima.  Stijn Devillé duikt in het achterliggende verhaal van de Belgische betrokkenheid hierbij. Hij schetst hoe mensen wereldwijd met elkaar verbonden zijn en een kettingreactie veroorzaken die de geschiedenis een andere wending 
DTSTART:20250301T201500 
DTEND:20250301T221500 
LOCATION:CC de Meent - Schouwburg 
URL:https://www.demeent.be/yellowcake-little-boy 
END:VEVENT
END:VCALENDAR