BEGIN:VCALENDAR
VERSION:2.0
METHOD:PUBLISH
PRODID:-//Zap Calendar//Zap Calendar//EN
X-WR-TIMEZONE:Europe/Brussels
BEGIN:VEVENT
UID:10
DTSTAMP:20240511T190000 
SUMMARY:Surãké DANSCENTRUM PIROUETTE 
DESCRIPTION: 
DTSTART:20240511T190000 
DTEND:20240511T210000 
LOCATION:CC de Meent - Schouwburg 
URL:https://www.demeent.be/pirouette-surake 
END:VEVENT
END:VCALENDAR