BEGIN:VCALENDAR
VERSION:2.0
METHOD:PUBLISH
PRODID:-//Zap Calendar//Zap Calendar//EN
X-WR-TIMEZONE:Europe/Brussels
BEGIN:VEVENT
UID:10
DTSTAMP:20260322T110000 
SUMMARY:DONAX COLORIET 
DESCRIPTION:Hoboïst Bram Nolf, fagottist Luc Loubry en pianist Hans Ryckelynck brengen de meest sprankelende en virtuoze muziek die ooit voor de combinatie hobo, fagot en piano werd geschreven. Tijdens dit concert vertellen ze bovendien honderduit over hun instrumenten, de muziek en hun leven als musicus. 
DTSTART:20260322T110000 
DTEND:20260322T130000 
LOCATION:Huis van Herman Teirlinck 
URL:https://www.demeent.be/index.php/nl/event/10413/coloriet 
END:VEVENT
END:VCALENDAR